BEGIN:VCALENDAR
VERSION:2.0
PRODID:-//The Branch Museum of Design - ECPv6.15.20//NONSGML v1.0//EN
CALSCALE:GREGORIAN
METHOD:PUBLISH
X-ORIGINAL-URL:https://branchmuseum.org
X-WR-CALDESC:Events for The Branch Museum of Design
REFRESH-INTERVAL;VALUE=DURATION:PT1H
X-Robots-Tag:noindex
X-PUBLISHED-TTL:PT1H
BEGIN:VTIMEZONE
TZID:America/Halifax
BEGIN:DAYLIGHT
TZOFFSETFROM:-0400
TZOFFSETTO:-0300
TZNAME:ADT
DTSTART:20250309T060000
END:DAYLIGHT
BEGIN:STANDARD
TZOFFSETFROM:-0300
TZOFFSETTO:-0400
TZNAME:AST
DTSTART:20251102T050000
END:STANDARD
BEGIN:DAYLIGHT
TZOFFSETFROM:-0400
TZOFFSETTO:-0300
TZNAME:ADT
DTSTART:20260308T060000
END:DAYLIGHT
BEGIN:STANDARD
TZOFFSETFROM:-0300
TZOFFSETTO:-0400
TZNAME:AST
DTSTART:20261101T050000
END:STANDARD
BEGIN:DAYLIGHT
TZOFFSETFROM:-0400
TZOFFSETTO:-0300
TZNAME:ADT
DTSTART:20270314T060000
END:DAYLIGHT
BEGIN:STANDARD
TZOFFSETFROM:-0300
TZOFFSETTO:-0400
TZNAME:AST
DTSTART:20271107T050000
END:STANDARD
END:VTIMEZONE
BEGIN:VEVENT
DTSTART;VALUE=DATE:20260426
DTEND;VALUE=DATE:20260507
DTSTAMP:20260420T040044
CREATED:20260408T141927Z
LAST-MODIFIED:20260408T141927Z
UID:28240-1777161600-1778111999@branchmuseum.org
SUMMARY:Closed for De-Installation
DESCRIPTION:The Branch Museum of Design is closed to the public for an exhibition de-installation. \nWhen planning your trip to The Branch\, check our online calendar for any other private rentals that may occur during your intended visit.
URL:https://branchmuseum.org/calendar/closed-for-de-installation-3/
LOCATION:The Branch Museum of Design\, 2501 Monument Avenue\, Richmond\, VA\, 23220\, United States
CATEGORIES:Exhibition,Private Event
ATTACH;FMTTYPE=image/jpeg:https://branchmuseum.org/wp-content/uploads/2024/12/back-spring-e1739462146618.jpg
END:VEVENT
END:VCALENDAR