BEGIN:VCALENDAR
VERSION:2.0
PRODID:-//The Branch Museum of Design - ECPv6.15.20//NONSGML v1.0//EN
CALSCALE:GREGORIAN
METHOD:PUBLISH
X-WR-CALNAME:The Branch Museum of Design
X-ORIGINAL-URL:https://branchmuseum.org
X-WR-CALDESC:Events for The Branch Museum of Design
REFRESH-INTERVAL;VALUE=DURATION:PT1H
X-Robots-Tag:noindex
X-PUBLISHED-TTL:PT1H
BEGIN:VTIMEZONE
TZID:America/Halifax
BEGIN:DAYLIGHT
TZOFFSETFROM:-0400
TZOFFSETTO:-0300
TZNAME:ADT
DTSTART:20240310T060000
END:DAYLIGHT
BEGIN:STANDARD
TZOFFSETFROM:-0300
TZOFFSETTO:-0400
TZNAME:AST
DTSTART:20241103T050000
END:STANDARD
BEGIN:DAYLIGHT
TZOFFSETFROM:-0400
TZOFFSETTO:-0300
TZNAME:ADT
DTSTART:20250309T060000
END:DAYLIGHT
BEGIN:STANDARD
TZOFFSETFROM:-0300
TZOFFSETTO:-0400
TZNAME:AST
DTSTART:20251102T050000
END:STANDARD
BEGIN:DAYLIGHT
TZOFFSETFROM:-0400
TZOFFSETTO:-0300
TZNAME:ADT
DTSTART:20260308T060000
END:DAYLIGHT
BEGIN:STANDARD
TZOFFSETFROM:-0300
TZOFFSETTO:-0400
TZNAME:AST
DTSTART:20261101T050000
END:STANDARD
END:VTIMEZONE
BEGIN:VEVENT
DTSTART;VALUE=DATE:20251122
DTEND;VALUE=DATE:20251123
DTSTAMP:20260421T012631
CREATED:20251105T131056Z
LAST-MODIFIED:20251105T131056Z
UID:27285-1763769600-1763855999@branchmuseum.org
SUMMARY:Closed for Private Event
DESCRIPTION:The Branch Museum of Design is closed to the public for a private event; we hope you will join us another time. \nWhen planning your trip to The Branch\, check our online calendar for any other private rentals that may occur during your intended visit.
URL:https://branchmuseum.org/calendar/closed-for-private-event-30/
LOCATION:The Branch Museum of Design\, 2501 Monument Avenue\, Richmond\, VA\, 23220\, United States
CATEGORIES:Private Event
ATTACH;FMTTYPE=image/jpeg:https://branchmuseum.org/wp-content/uploads/2024/12/back-spring-e1739462146618.jpg
END:VEVENT
END:VCALENDAR