BEGIN:VCALENDAR
VERSION:2.0
PRODID:-//The Branch Museum of Design - ECPv6.15.20//NONSGML v1.0//EN
CALSCALE:GREGORIAN
METHOD:PUBLISH
X-WR-CALNAME:The Branch Museum of Design
X-ORIGINAL-URL:https://branchmuseum.org
X-WR-CALDESC:Events for The Branch Museum of Design
REFRESH-INTERVAL;VALUE=DURATION:PT1H
X-Robots-Tag:noindex
X-PUBLISHED-TTL:PT1H
BEGIN:VTIMEZONE
TZID:America/Halifax
BEGIN:DAYLIGHT
TZOFFSETFROM:-0400
TZOFFSETTO:-0300
TZNAME:ADT
DTSTART:20250309T060000
END:DAYLIGHT
BEGIN:STANDARD
TZOFFSETFROM:-0300
TZOFFSETTO:-0400
TZNAME:AST
DTSTART:20251102T050000
END:STANDARD
BEGIN:DAYLIGHT
TZOFFSETFROM:-0400
TZOFFSETTO:-0300
TZNAME:ADT
DTSTART:20260308T060000
END:DAYLIGHT
BEGIN:STANDARD
TZOFFSETFROM:-0300
TZOFFSETTO:-0400
TZNAME:AST
DTSTART:20261101T050000
END:STANDARD
BEGIN:DAYLIGHT
TZOFFSETFROM:-0400
TZOFFSETTO:-0300
TZNAME:ADT
DTSTART:20270314T060000
END:DAYLIGHT
BEGIN:STANDARD
TZOFFSETFROM:-0300
TZOFFSETTO:-0400
TZNAME:AST
DTSTART:20271107T050000
END:STANDARD
END:VTIMEZONE
BEGIN:VEVENT
DTSTART;TZID=America/Halifax:20260318T180000
DTEND;TZID=America/Halifax:20260318T210000
DTSTAMP:20260423T060916
CREATED:20260227T012643Z
LAST-MODIFIED:20260227T020105Z
UID:28018-1773856800-1773867600@branchmuseum.org
SUMMARY:MAKER'S STUDIO - Agnes Grochulska's Seeing Differently: Drawing What You Actually See
DESCRIPTION:In this hands-on\, artist-led workshop\, participants will explore powerful visual exercises that shift the brain from habitual\, symbolic thinking to true observation. Through guided drawing activities\, short demonstrations\, and moments of reflection\, you’ll learn to quiet analytical judgment and strengthen the perceptual skills that lead to more accurate\, confident drawing. \nRather than focusing on style or perfection\, this workshop trains the foundations of realistic seeing: edges\, negative space\, proportion\, light and shadow\, and how the whole image fits together. These skills benefit anyone who wants to draw more realistically — whether you’re picking up a pencil for the first time or refining an existing practice. \nTickets ($75) include drawing materials\, wine & light refreshments. \nGet tickets here.
URL:https://branchmuseum.org/calendar/makers-studio-agnes-grochulskas-seeing-differently-drawing-what-you-actually-see/
LOCATION:The Branch Museum of Design\, 2501 Monument Avenue\, Richmond\, VA\, 23220\, United States
CATEGORIES:Workshop
ATTACH;FMTTYPE=image/png:https://branchmuseum.org/wp-content/uploads/2026/02/Makers-Studio-Agnes-Grochulska_Square-1.png
END:VEVENT
END:VCALENDAR