BEGIN:VCALENDAR
VERSION:2.0
PRODID:-//The Branch Museum of Design - ECPv6.15.20//NONSGML v1.0//EN
CALSCALE:GREGORIAN
METHOD:PUBLISH
X-WR-CALNAME:The Branch Museum of Design
X-ORIGINAL-URL:https://branchmuseum.org
X-WR-CALDESC:Events for The Branch Museum of Design
REFRESH-INTERVAL;VALUE=DURATION:PT1H
X-Robots-Tag:noindex
X-PUBLISHED-TTL:PT1H
BEGIN:VTIMEZONE
TZID:America/Halifax
BEGIN:DAYLIGHT
TZOFFSETFROM:-0400
TZOFFSETTO:-0300
TZNAME:ADT
DTSTART:20200308T060000
END:DAYLIGHT
BEGIN:STANDARD
TZOFFSETFROM:-0300
TZOFFSETTO:-0400
TZNAME:AST
DTSTART:20201101T050000
END:STANDARD
BEGIN:DAYLIGHT
TZOFFSETFROM:-0400
TZOFFSETTO:-0300
TZNAME:ADT
DTSTART:20210314T060000
END:DAYLIGHT
BEGIN:STANDARD
TZOFFSETFROM:-0300
TZOFFSETTO:-0400
TZNAME:AST
DTSTART:20211107T050000
END:STANDARD
BEGIN:DAYLIGHT
TZOFFSETFROM:-0400
TZOFFSETTO:-0300
TZNAME:ADT
DTSTART:20220313T060000
END:DAYLIGHT
BEGIN:STANDARD
TZOFFSETFROM:-0300
TZOFFSETTO:-0400
TZNAME:AST
DTSTART:20221106T050000
END:STANDARD
BEGIN:DAYLIGHT
TZOFFSETFROM:-0400
TZOFFSETTO:-0300
TZNAME:ADT
DTSTART:20230312T060000
END:DAYLIGHT
BEGIN:STANDARD
TZOFFSETFROM:-0300
TZOFFSETTO:-0400
TZNAME:AST
DTSTART:20231105T050000
END:STANDARD
BEGIN:DAYLIGHT
TZOFFSETFROM:-0400
TZOFFSETTO:-0300
TZNAME:ADT
DTSTART:20240310T060000
END:DAYLIGHT
BEGIN:STANDARD
TZOFFSETFROM:-0300
TZOFFSETTO:-0400
TZNAME:AST
DTSTART:20241103T050000
END:STANDARD
BEGIN:DAYLIGHT
TZOFFSETFROM:-0400
TZOFFSETTO:-0300
TZNAME:ADT
DTSTART:20250309T060000
END:DAYLIGHT
BEGIN:STANDARD
TZOFFSETFROM:-0300
TZOFFSETTO:-0400
TZNAME:AST
DTSTART:20251102T050000
END:STANDARD
BEGIN:DAYLIGHT
TZOFFSETFROM:-0400
TZOFFSETTO:-0300
TZNAME:ADT
DTSTART:20260308T060000
END:DAYLIGHT
BEGIN:STANDARD
TZOFFSETFROM:-0300
TZOFFSETTO:-0400
TZNAME:AST
DTSTART:20261101T050000
END:STANDARD
END:VTIMEZONE
BEGIN:VEVENT
DTSTART;TZID=America/Halifax:20250403T120000
DTEND;TZID=America/Halifax:20250403T170000
DTSTAMP:20260421T232516
CREATED:20250320T164720Z
LAST-MODIFIED:20250320T164720Z
UID:25348-1743681600-1743699600@branchmuseum.org
SUMMARY:Closed for Private Event
DESCRIPTION:The Branch Museum of Design is closing early at 12:00 pm noon to the public for a private event; we hope you will join us another time. \nWhen planning your trip to The Branch\, check our online calendar for any other private rentals that may occur during your intended visit.
URL:https://branchmuseum.org/calendar/closed-for-private-event-4/
LOCATION:The Branch Museum of Design\, 2501 Monument Avenue\, Richmond\, VA\, 23220\, United States
CATEGORIES:Private Event
ATTACH;FMTTYPE=image/jpeg:https://branchmuseum.org/wp-content/uploads/2024/12/back-spring-e1739462146618.jpg
END:VEVENT
BEGIN:VEVENT
DTSTART;TZID=America/Halifax:20250327T150000
DTEND;TZID=America/Halifax:20250327T170000
DTSTAMP:20260421T232516
CREATED:20250320T164455Z
LAST-MODIFIED:20250320T164455Z
UID:25346-1743087600-1743094800@branchmuseum.org
SUMMARY:Closed for Private Event
DESCRIPTION:The Branch Museum of Design is closing early at 3:30 pm to the public for a private event; we hope you will join us another time. \nWhen planning your trip to The Branch\, check our online calendar for any other private rentals that may occur during your intended visit.
URL:https://branchmuseum.org/calendar/closed-for-private-event-3/
LOCATION:The Branch Museum of Design\, 2501 Monument Avenue\, Richmond\, VA\, 23220\, United States
CATEGORIES:Private Event
ATTACH;FMTTYPE=image/jpeg:https://branchmuseum.org/wp-content/uploads/2024/12/back-spring-e1739462146618.jpg
END:VEVENT
BEGIN:VEVENT
DTSTART;VALUE=DATE:20250315
DTEND;VALUE=DATE:20250316
DTSTAMP:20260421T232516
CREATED:20250314T153037Z
LAST-MODIFIED:20250314T155622Z
UID:25282-1741996800-1742083199@branchmuseum.org
SUMMARY:Closed for Private Event
DESCRIPTION:The Branch Museum of Design is closed today to the public for a private event\, we hope you will join us another time. \nWhen planning your trip to The Branch\, check our online calendar for any other private rentals that may occur during your intended visit.
URL:https://branchmuseum.org/calendar/closed-for-a-private-event-23/
LOCATION:The Branch Museum of Design\, 2501 Monument Avenue\, Richmond\, VA\, 23220\, United States
CATEGORIES:Private Event
ATTACH;FMTTYPE=image/jpeg:https://branchmuseum.org/wp-content/uploads/2024/12/back-spring-e1739462146618.jpg
END:VEVENT
BEGIN:VEVENT
DTSTART;TZID=America/Halifax:20250213T100000
DTEND;TZID=America/Halifax:20250213T150000
DTSTAMP:20260421T232516
CREATED:20250213T155625Z
LAST-MODIFIED:20250213T155625Z
UID:24981-1739440800-1739458800@branchmuseum.org
SUMMARY:Galleries Closed for Private Event
DESCRIPTION:The first-floor galleries are closed today from 10 AM to 3 PM for a private event. We hope you will visit us another time. The second-floor Reading Room will remain open during the event with regular operating hours of 10 AM to 5 PM. \nInterested in planning a private event at The Branch Museum of Design? Visit our Events page to learn more here. \nWe look forward to seeing you soon!
URL:https://branchmuseum.org/calendar/galleries-closed-for-private-event/
LOCATION:VA
CATEGORIES:Private Event
ATTACH;FMTTYPE=image/jpeg:https://branchmuseum.org/wp-content/uploads/2024/12/back-spring-e1739462146618.jpg
END:VEVENT
BEGIN:VEVENT
DTSTART;TZID=America/Halifax:20241122T120000
DTEND;TZID=America/Halifax:20241122T170000
DTSTAMP:20260421T232516
CREATED:20241003T165449Z
LAST-MODIFIED:20241003T165449Z
UID:23882-1732276800-1732294800@branchmuseum.org
SUMMARY:Closed for a Private Event
DESCRIPTION:The Branch is closed from 1pm to 10pm for a private event. \nPrivate events provide essential funding that allows us to operate with a pay-what-you-can model for museum admissions. This means that doors are open to the everyone. We appreciate your understanding and hope you will join us another time!
URL:https://branchmuseum.org/calendar/closed-for-a-private-event-22/
LOCATION:VA
CATEGORIES:Private Event
ATTACH;FMTTYPE=image/png:https://branchmuseum.org/wp-content/uploads/2024/08/Screenshot-2024-05-24-at-2.37.56â€¯PM.png
END:VEVENT
BEGIN:VEVENT
DTSTART;TZID=America/Halifax:20241116T100000
DTEND;TZID=America/Halifax:20241116T170000
DTSTAMP:20260421T232516
CREATED:20241003T165309Z
LAST-MODIFIED:20241003T165309Z
UID:23880-1731751200-1731776400@branchmuseum.org
SUMMARY:Closed for a Private Event
DESCRIPTION:The Branch is closed from 1pm to 10pm for a private event. \nPrivate events provide essential funding that allows us to operate with a pay-what-you-can model for museum admissions. This means that doors are open to the everyone. We appreciate your understanding and hope you will join us another time!
URL:https://branchmuseum.org/calendar/closed-for-a-private-event-20/
LOCATION:VA
CATEGORIES:Private Event
ATTACH;FMTTYPE=image/png:https://branchmuseum.org/wp-content/uploads/2024/08/Screenshot-2024-05-24-at-2.37.56â€¯PM.png
END:VEVENT
BEGIN:VEVENT
DTSTART;TZID=America/Halifax:20241102T130000
DTEND;TZID=America/Halifax:20241102T170000
DTSTAMP:20260421T232516
CREATED:20241003T165003Z
LAST-MODIFIED:20241003T165003Z
UID:23878-1730552400-1730566800@branchmuseum.org
SUMMARY:Closed for a Private Event
DESCRIPTION:The Branch is closed from 1pm to 10pm for a private event. \nPrivate events provide essential funding that allows us to operate with a pay-what-you-can model for museum admissions. This means that doors are open to the everyone. We appreciate your understanding and hope you will join us another time!
URL:https://branchmuseum.org/calendar/closed-for-a-private-event-13/
LOCATION:VA
CATEGORIES:Private Event
ATTACH;FMTTYPE=image/png:https://branchmuseum.org/wp-content/uploads/2024/08/Screenshot-2024-05-24-at-2.37.56â€¯PM.png
END:VEVENT
BEGIN:VEVENT
DTSTART;TZID=America/Halifax:20241101T160000
DTEND;TZID=America/Halifax:20241101T170000
DTSTAMP:20260421T232516
CREATED:20241003T164814Z
LAST-MODIFIED:20241003T164814Z
UID:23876-1730476800-1730480400@branchmuseum.org
SUMMARY:Closed for a Private Event
DESCRIPTION:The Branch is closed from 1pm to 10pm for a private event. \nPrivate events provide essential funding that allows us to operate with a pay-what-you-can model for museum admissions. This means that doors are open to the everyone. We appreciate your understanding and hope you will join us another time!
URL:https://branchmuseum.org/calendar/closed-for-a-private-event-7/
LOCATION:VA
CATEGORIES:Private Event
ATTACH;FMTTYPE=image/png:https://branchmuseum.org/wp-content/uploads/2024/08/Screenshot-2024-05-24-at-2.37.56â€¯PM.png
END:VEVENT
BEGIN:VEVENT
DTSTART;TZID=America/Halifax:20221210T130000
DTEND;TZID=America/Halifax:20221210T210000
DTSTAMP:20260421T232516
CREATED:20220307T154525Z
LAST-MODIFIED:20220307T154525Z
UID:15713-1670677200-1670706000@branchmuseum.org
SUMMARY:Private Event - Wedding
DESCRIPTION:Our direct line to events during non-business hours is (804)-658-6113.
URL:https://branchmuseum.org/calendar/private-event-wedding-17/
LOCATION:VA
CATEGORIES:Private Event
END:VEVENT
BEGIN:VEVENT
DTSTART;TZID=America/Halifax:20221119T130000
DTEND;TZID=America/Halifax:20221119T230000
DTSTAMP:20260421T232516
CREATED:20211129T204741Z
LAST-MODIFIED:20211129T204741Z
UID:14810-1668862800-1668898800@branchmuseum.org
SUMMARY:Private Event - Wedding
DESCRIPTION:Our direct line to events during non-business hours is (804)-658-6113.
URL:https://branchmuseum.org/calendar/private-event-wedding-15/
LOCATION:VA
CATEGORIES:Private Event
END:VEVENT
BEGIN:VEVENT
DTSTART;TZID=America/Halifax:20221112T130000
DTEND;TZID=America/Halifax:20221112T230000
DTSTAMP:20260421T232516
CREATED:20211028T150526Z
LAST-MODIFIED:20211028T150526Z
UID:14423-1668258000-1668294000@branchmuseum.org
SUMMARY:Private Event - Wedding
DESCRIPTION:Our direct line to events during non-business hours is (804)-658-6113.
URL:https://branchmuseum.org/calendar/private-event-wedding-13/
LOCATION:VA
CATEGORIES:Private Event
END:VEVENT
BEGIN:VEVENT
DTSTART;TZID=America/Halifax:20221105T173000
DTEND;TZID=America/Halifax:20221105T223000
DTSTAMP:20260421T232516
CREATED:20211028T150048Z
LAST-MODIFIED:20211028T150237Z
UID:14421-1667669400-1667687400@branchmuseum.org
SUMMARY:Private Event
DESCRIPTION:Our direct line to events during non-business hours is (804)-658-6113.
URL:https://branchmuseum.org/calendar/private-event-29/
LOCATION:VA
CATEGORIES:Private Event
END:VEVENT
BEGIN:VEVENT
DTSTART;TZID=America/Halifax:20221029T100000
DTEND;TZID=America/Halifax:20221029T150000
DTSTAMP:20260421T232516
CREATED:20211028T145844Z
LAST-MODIFIED:20211028T145844Z
UID:14419-1667037600-1667055600@branchmuseum.org
SUMMARY:Private Event - Wedding
DESCRIPTION:Our direct line to events during non-business hours is (804)-658-6113.
URL:https://branchmuseum.org/calendar/private-event-wedding-12/
LOCATION:VA
CATEGORIES:Private Event
END:VEVENT
BEGIN:VEVENT
DTSTART;TZID=America/Halifax:20221022T130000
DTEND;TZID=America/Halifax:20221022T220000
DTSTAMP:20260421T232516
CREATED:20210723T151354Z
LAST-MODIFIED:20210723T151354Z
UID:13585-1666443600-1666476000@branchmuseum.org
SUMMARY:Private Event - Wedding
DESCRIPTION:Our direct line to events during non-business hours is (804)-658-6113.
URL:https://branchmuseum.org/calendar/private-event-wedding-3/
LOCATION:VA
CATEGORIES:Private Event
END:VEVENT
BEGIN:VEVENT
DTSTART;TZID=America/Halifax:20221015T130000
DTEND;TZID=America/Halifax:20221015T210000
DTSTAMP:20260421T232516
CREATED:20210707T145121Z
LAST-MODIFIED:20210707T145121Z
UID:13470-1665838800-1665867600@branchmuseum.org
SUMMARY:Private Event - Wedding
DESCRIPTION:Our direct line to events during non-business hours is (804)-658-6113.
URL:https://branchmuseum.org/calendar/private-event-wedding-2/
LOCATION:VA
CATEGORIES:Private Event
END:VEVENT
BEGIN:VEVENT
DTSTART;TZID=America/Halifax:20221008T130000
DTEND;TZID=America/Halifax:20221008T230000
DTSTAMP:20260421T232516
CREATED:20210920T161123Z
LAST-MODIFIED:20210920T161123Z
UID:13976-1665234000-1665270000@branchmuseum.org
SUMMARY:Private Event - Wedding
DESCRIPTION:Our direct line to events during non-business hours is 804-658-6113.
URL:https://branchmuseum.org/calendar/private-event-wedding-10/
LOCATION:VA
CATEGORIES:Private Event
END:VEVENT
BEGIN:VEVENT
DTSTART;TZID=America/Halifax:20221001T130000
DTEND;TZID=America/Halifax:20221001T223000
DTSTAMP:20260421T232516
CREATED:20210707T144441Z
LAST-MODIFIED:20210707T144613Z
UID:13465-1664629200-1664663400@branchmuseum.org
SUMMARY:Private Event - Wedding
DESCRIPTION:Our direct line to events during non-business hours is (804)-658-6113.
URL:https://branchmuseum.org/calendar/private-event-20/
LOCATION:VA
CATEGORIES:Private Event
END:VEVENT
BEGIN:VEVENT
DTSTART;TZID=America/Halifax:20220923T130000
DTEND;TZID=America/Halifax:20220923T170000
DTSTAMP:20260421T232516
CREATED:20210920T161013Z
LAST-MODIFIED:20210920T161013Z
UID:13974-1663938000-1663952400@branchmuseum.org
SUMMARY:Private Event - Wedding
DESCRIPTION:Our direct line to events during non-business hours is 804-658-6113.
URL:https://branchmuseum.org/calendar/private-event-wedding-9/
LOCATION:VA
CATEGORIES:Private Event
END:VEVENT
BEGIN:VEVENT
DTSTART;TZID=America/Halifax:20220910T130000
DTEND;TZID=America/Halifax:20220910T230000
DTSTAMP:20260421T232516
CREATED:20211129T203421Z
LAST-MODIFIED:20211129T203421Z
UID:14808-1662814800-1662850800@branchmuseum.org
SUMMARY:Private Event - Wedding
DESCRIPTION:Our direct line to events during non-business hours is (804)-658-6113.
URL:https://branchmuseum.org/calendar/private-event-wedding-14/
LOCATION:VA
CATEGORIES:Private Event
END:VEVENT
BEGIN:VEVENT
DTSTART;TZID=America/Halifax:20220904T120000
DTEND;TZID=America/Halifax:20220904T223000
DTSTAMP:20260421T232516
CREATED:20220307T153913Z
LAST-MODIFIED:20220307T154057Z
UID:15711-1662292800-1662330600@branchmuseum.org
SUMMARY:Private Event - Wedding
DESCRIPTION:Our direct line to events during non-business hours is (804)-658-6113.
URL:https://branchmuseum.org/calendar/private-event-wedding-16/
LOCATION:VA
CATEGORIES:Private Event
END:VEVENT
BEGIN:VEVENT
DTSTART;TZID=America/Halifax:20220722T183000
DTEND;TZID=America/Halifax:20220722T223000
DTSTAMP:20260421T232516
CREATED:20210714T195624Z
LAST-MODIFIED:20210714T195624Z
UID:13497-1658514600-1658529000@branchmuseum.org
SUMMARY:Private Event
DESCRIPTION:Our direct line to events during non-business hours is (804)-658-6113.
URL:https://branchmuseum.org/calendar/private-event-11/
LOCATION:VA
CATEGORIES:Private Event
END:VEVENT
BEGIN:VEVENT
DTSTART;TZID=America/Halifax:20220621T130000
DTEND;TZID=America/Halifax:20220621T170000
DTSTAMP:20260421T232516
CREATED:20210826T174705Z
LAST-MODIFIED:20210826T174705Z
UID:13771-1655816400-1655830800@branchmuseum.org
SUMMARY:Private Event
DESCRIPTION:Our direct line to events during non-business hours is (804)-658-6113.
URL:https://branchmuseum.org/calendar/private-event-22/
LOCATION:VA
CATEGORIES:Private Event
END:VEVENT
BEGIN:VEVENT
DTSTART;TZID=America/Halifax:20220618T130000
DTEND;TZID=America/Halifax:20220618T230000
DTSTAMP:20260421T232516
CREATED:20210920T160812Z
LAST-MODIFIED:20210920T160812Z
UID:13972-1655557200-1655593200@branchmuseum.org
SUMMARY:Private Event - Wedding
DESCRIPTION:Our direct line to events during non-business hours is 804-658-6113.
URL:https://branchmuseum.org/calendar/private-event-wedding-8/
LOCATION:VA
CATEGORIES:Private Event
END:VEVENT
BEGIN:VEVENT
DTSTART;TZID=America/Halifax:20220521T130000
DTEND;TZID=America/Halifax:20220521T233000
DTSTAMP:20260421T232516
CREATED:20210920T160629Z
LAST-MODIFIED:20210920T160629Z
UID:13970-1653138000-1653175800@branchmuseum.org
SUMMARY:Private Event - Wedding
DESCRIPTION:Our direct line to events during non-business hours is 804-658-6113.
URL:https://branchmuseum.org/calendar/private-event-wedding-7/
LOCATION:VA
CATEGORIES:Private Event
END:VEVENT
BEGIN:VEVENT
DTSTART;TZID=America/Halifax:20220506T180000
DTEND;TZID=America/Halifax:20220506T220000
DTSTAMP:20260421T232516
CREATED:20210920T160449Z
LAST-MODIFIED:20210920T160449Z
UID:13968-1651860000-1651874400@branchmuseum.org
SUMMARY:Private Event
DESCRIPTION:Our direct line to events during non-business hours is 804-658-6113.
URL:https://branchmuseum.org/calendar/private-event-28/
LOCATION:VA
CATEGORIES:Private Event
END:VEVENT
BEGIN:VEVENT
DTSTART;TZID=America/Halifax:20220430T130000
DTEND;TZID=America/Halifax:20220430T220000
DTSTAMP:20260421T232516
CREATED:20210707T144839Z
LAST-MODIFIED:20210707T144839Z
UID:13468-1651323600-1651356000@branchmuseum.org
SUMMARY:Private Event - Wedding
DESCRIPTION:Our direct line to events during non-business hours is (804)-658-6113.
URL:https://branchmuseum.org/calendar/private-event-wedding/
LOCATION:VA
CATEGORIES:Private Event
END:VEVENT
BEGIN:VEVENT
DTSTART;TZID=America/Halifax:20211218T130000
DTEND;TZID=America/Halifax:20211218T170000
DTSTAMP:20260421T232516
CREATED:20210826T174423Z
LAST-MODIFIED:20210826T174423Z
UID:13769-1639832400-1639846800@branchmuseum.org
SUMMARY:Private Event - Wedding
DESCRIPTION:Our direct line to events during non-business hours is (804)-658-6113.
URL:https://branchmuseum.org/calendar/private-event-wedding-4/
LOCATION:VA
CATEGORIES:Private Event
END:VEVENT
BEGIN:VEVENT
DTSTART;TZID=America/Halifax:20211216T150000
DTEND;TZID=America/Halifax:20211216T220000
DTSTAMP:20260421T232516
CREATED:20211129T202044Z
LAST-MODIFIED:20211129T202044Z
UID:14802-1639666800-1639692000@branchmuseum.org
SUMMARY:Private Event
DESCRIPTION:Our direct line to events during non-business hours is 804-658-6113.
URL:https://branchmuseum.org/calendar/private-event-30/
LOCATION:VA
CATEGORIES:Private Event
END:VEVENT
BEGIN:VEVENT
DTSTART;TZID=America/Halifax:20211211T130000
DTEND;TZID=America/Halifax:20211211T223000
DTSTAMP:20260421T232516
CREATED:20210412T160557Z
LAST-MODIFIED:20210707T150142Z
UID:12365-1639227600-1639261800@branchmuseum.org
SUMMARY:Private Event - Wedding
DESCRIPTION:Our direct line to events during non-business hours is (804)-658-6113.
URL:https://branchmuseum.org/calendar/private-event-13/
LOCATION:Branch Museum of Architecture and Design\, 2501 Monument Ave\, Richmond\, VA\, 23220\, United States
CATEGORIES:Private Event
END:VEVENT
BEGIN:VEVENT
DTSTART;TZID=America/Halifax:20211209T160000
DTEND;TZID=America/Halifax:20211209T220000
DTSTAMP:20260421T232516
CREATED:20211129T202919Z
LAST-MODIFIED:20211129T202919Z
UID:14804-1639065600-1639087200@branchmuseum.org
SUMMARY:Private Event
DESCRIPTION:Our direct line to events during non-business hours is (804)-658-6113.
URL:https://branchmuseum.org/calendar/private-event-31/
LOCATION:VA
CATEGORIES:Private Event
END:VEVENT
END:VCALENDAR