BEGIN:VCALENDAR
VERSION:2.0
PRODID:-//The Branch Museum of Design - ECPv6.15.20//NONSGML v1.0//EN
CALSCALE:GREGORIAN
METHOD:PUBLISH
X-ORIGINAL-URL:https://branchmuseum.org
X-WR-CALDESC:Events for The Branch Museum of Design
REFRESH-INTERVAL;VALUE=DURATION:PT1H
X-Robots-Tag:noindex
X-PUBLISHED-TTL:PT1H
BEGIN:VTIMEZONE
TZID:America/Halifax
BEGIN:DAYLIGHT
TZOFFSETFROM:-0400
TZOFFSETTO:-0300
TZNAME:ADT
DTSTART:20240310T060000
END:DAYLIGHT
BEGIN:STANDARD
TZOFFSETFROM:-0300
TZOFFSETTO:-0400
TZNAME:AST
DTSTART:20241103T050000
END:STANDARD
BEGIN:DAYLIGHT
TZOFFSETFROM:-0400
TZOFFSETTO:-0300
TZNAME:ADT
DTSTART:20250309T060000
END:DAYLIGHT
BEGIN:STANDARD
TZOFFSETFROM:-0300
TZOFFSETTO:-0400
TZNAME:AST
DTSTART:20251102T050000
END:STANDARD
BEGIN:DAYLIGHT
TZOFFSETFROM:-0400
TZOFFSETTO:-0300
TZNAME:ADT
DTSTART:20260308T060000
END:DAYLIGHT
BEGIN:STANDARD
TZOFFSETFROM:-0300
TZOFFSETTO:-0400
TZNAME:AST
DTSTART:20261101T050000
END:STANDARD
BEGIN:DAYLIGHT
TZOFFSETFROM:-0400
TZOFFSETTO:-0300
TZNAME:ADT
DTSTART:20270314T060000
END:DAYLIGHT
BEGIN:STANDARD
TZOFFSETFROM:-0300
TZOFFSETTO:-0400
TZNAME:AST
DTSTART:20271107T050000
END:STANDARD
END:VTIMEZONE
BEGIN:VTIMEZONE
TZID:America/New_York
BEGIN:DAYLIGHT
TZOFFSETFROM:-0500
TZOFFSETTO:-0400
TZNAME:EDT
DTSTART:20240310T070000
END:DAYLIGHT
BEGIN:STANDARD
TZOFFSETFROM:-0400
TZOFFSETTO:-0500
TZNAME:EST
DTSTART:20241103T060000
END:STANDARD
BEGIN:DAYLIGHT
TZOFFSETFROM:-0500
TZOFFSETTO:-0400
TZNAME:EDT
DTSTART:20250309T070000
END:DAYLIGHT
BEGIN:STANDARD
TZOFFSETFROM:-0400
TZOFFSETTO:-0500
TZNAME:EST
DTSTART:20251102T060000
END:STANDARD
BEGIN:DAYLIGHT
TZOFFSETFROM:-0500
TZOFFSETTO:-0400
TZNAME:EDT
DTSTART:20260308T070000
END:DAYLIGHT
BEGIN:STANDARD
TZOFFSETFROM:-0400
TZOFFSETTO:-0500
TZNAME:EST
DTSTART:20261101T060000
END:STANDARD
END:VTIMEZONE
BEGIN:VEVENT
DTSTART;VALUE=DATE:20260323
DTEND;VALUE=DATE:20260401
DTSTAMP:20260421T085841
CREATED:20260318T140145Z
LAST-MODIFIED:20260318T140145Z
UID:28097-1774224000-1775001599@branchmuseum.org
SUMMARY:Closed for De-Installation
DESCRIPTION:The Branch Museum of Design is closed to the public for an exhibition de-installation. \nWhen planning your trip to The Branch\, check our online calendar for any other private rentals that may occur during your intended visit.
URL:https://branchmuseum.org/calendar/closed-for-de-installation-2/
LOCATION:The Branch Museum of Design\, 2501 Monument Avenue\, Richmond\, VA\, 23220\, United States
CATEGORIES:Exhibition,Private Event
ATTACH;FMTTYPE=image/jpeg:https://branchmuseum.org/wp-content/uploads/2024/12/back-spring-e1739462146618.jpg
END:VEVENT
BEGIN:VEVENT
DTSTART;VALUE=DATE:20251222
DTEND;VALUE=DATE:20260104
DTSTAMP:20260421T085841
CREATED:20251126T164211Z
LAST-MODIFIED:20251217T193240Z
UID:27568-1766361600-1767484799@branchmuseum.org
SUMMARY:Closed for Plaster Work
DESCRIPTION:The Branch Museum of Design will be closed Monday\, December 22nd through Friday\, January 2nd for plaster repair work in our historic home.
URL:https://branchmuseum.org/calendar/closed-for-plaster-work/
LOCATION:The Branch Museum of Design\, 2501 Monument Avenue\, Richmond\, VA\, 23220\, United States
CATEGORIES:Private Event
ATTACH;FMTTYPE=image/png:https://branchmuseum.org/wp-content/uploads/2023/08/BI20.png
END:VEVENT
BEGIN:VEVENT
DTSTART;VALUE=DATE:20251213
DTEND;VALUE=DATE:20251214
DTSTAMP:20260421T085841
CREATED:20251126T163746Z
LAST-MODIFIED:20251126T163746Z
UID:27566-1765584000-1765670399@branchmuseum.org
SUMMARY:Closed for Private Event
DESCRIPTION:The Branch Museum of Design is closed to the public for a private event; we hope you will join us another time. \nWhen planning your trip to The Branch\, check our online calendar for any other private rentals that may occur during your intended visit.
URL:https://branchmuseum.org/calendar/closed-for-private-event-32/
LOCATION:The Branch Museum of Design\, 2501 Monument Avenue\, Richmond\, VA\, 23220\, United States
CATEGORIES:Private Event
ATTACH;FMTTYPE=image/jpeg:https://branchmuseum.org/wp-content/uploads/2024/12/back-spring-e1739462146618.jpg
END:VEVENT
BEGIN:VEVENT
DTSTART;VALUE=DATE:20251212
DTEND;VALUE=DATE:20251213
DTSTAMP:20260421T085841
CREATED:20251126T163611Z
LAST-MODIFIED:20251126T163719Z
UID:27564-1765497600-1765583999@branchmuseum.org
SUMMARY:Closed for Private Event
DESCRIPTION:The Branch Museum of Design is closed to the public for a private event; we hope you will join us another time. \nWhen planning your trip to The Branch\, check our online calendar for any other private rentals that may occur during your intended visit.
URL:https://branchmuseum.org/calendar/closed-for-private-event-31/
LOCATION:The Branch Museum of Design\, 2501 Monument Avenue\, Richmond\, VA\, 23220\, United States
CATEGORIES:Private Event
ATTACH;FMTTYPE=image/jpeg:https://branchmuseum.org/wp-content/uploads/2024/12/back-spring-e1739462146618.jpg
END:VEVENT
BEGIN:VEVENT
DTSTART;VALUE=DATE:20251211
DTEND;VALUE=DATE:20251212
DTSTAMP:20260421T085841
CREATED:20251126T162642Z
LAST-MODIFIED:20251126T162642Z
UID:27562-1765411200-1765497599@branchmuseum.org
SUMMARY:Closed for De-Installation
DESCRIPTION:The Branch Museum of Design is closed to the public for an exhibition de-installation. \nWhen planning your trip to The Branch\, check our online calendar for any other private rentals that may occur during your intended visit.
URL:https://branchmuseum.org/calendar/closed-for-de-installation/
LOCATION:The Branch Museum of Design\, 2501 Monument Avenue\, Richmond\, VA\, 23220\, United States
CATEGORIES:Private Event
ATTACH;FMTTYPE=image/jpeg:https://branchmuseum.org/wp-content/uploads/2024/12/back-spring-e1739462146618.jpg
END:VEVENT
BEGIN:VEVENT
DTSTART;VALUE=DATE:20251127
DTEND;VALUE=DATE:20251128
DTSTAMP:20260421T085841
CREATED:20251105T145054Z
LAST-MODIFIED:20251105T145436Z
UID:27291-1764201600-1764287999@branchmuseum.org
SUMMARY:Closing for Thanksgiving
DESCRIPTION:The Branch Museum of Design is closed on Thursday\, November 27 for the Thanksgiving Holiday.
URL:https://branchmuseum.org/calendar/closing-early-for-private-event-9/
LOCATION:The Branch Museum of Design\, 2501 Monument Avenue\, Richmond\, VA\, 23220\, United States
CATEGORIES:Private Event
ATTACH;FMTTYPE=image/jpeg:https://branchmuseum.org/wp-content/uploads/2024/12/back-spring-e1739462146618.jpg
END:VEVENT
BEGIN:VEVENT
DTSTART;VALUE=DATE:20251122
DTEND;VALUE=DATE:20251123
DTSTAMP:20260421T085841
CREATED:20251105T131056Z
LAST-MODIFIED:20251105T131056Z
UID:27285-1763769600-1763855999@branchmuseum.org
SUMMARY:Closed for Private Event
DESCRIPTION:The Branch Museum of Design is closed to the public for a private event; we hope you will join us another time. \nWhen planning your trip to The Branch\, check our online calendar for any other private rentals that may occur during your intended visit.
URL:https://branchmuseum.org/calendar/closed-for-private-event-30/
LOCATION:The Branch Museum of Design\, 2501 Monument Avenue\, Richmond\, VA\, 23220\, United States
CATEGORIES:Private Event
ATTACH;FMTTYPE=image/jpeg:https://branchmuseum.org/wp-content/uploads/2024/12/back-spring-e1739462146618.jpg
END:VEVENT
BEGIN:VEVENT
DTSTART;TZID=America/Halifax:20251111T120000
DTEND;TZID=America/Halifax:20251111T170000
DTSTAMP:20260421T085841
CREATED:20251105T143651Z
LAST-MODIFIED:20251105T143651Z
UID:27288-1762862400-1762880400@branchmuseum.org
SUMMARY:Closing Early for Private Event
DESCRIPTION:The Branch Museum of Design will be closing at 12 pm for a private event. Please join us between 10am – 12pm to see our current exhibition. \nWhen planning your trip to The Branch\, check our online calendar for any other private rentals that may occur during your intended visit.
URL:https://branchmuseum.org/calendar/closing-early-for-private-event-8/
LOCATION:The Branch Museum of Design\, 2501 Monument Avenue\, Richmond\, VA\, 23220\, United States
CATEGORIES:Private Event
ATTACH;FMTTYPE=image/jpeg:https://branchmuseum.org/wp-content/uploads/2024/12/back-spring-e1739462146618.jpg
END:VEVENT
BEGIN:VEVENT
DTSTART;VALUE=DATE:20251108
DTEND;VALUE=DATE:20251109
DTSTAMP:20260421T085841
CREATED:20251105T130951Z
LAST-MODIFIED:20251105T130951Z
UID:27283-1762560000-1762646399@branchmuseum.org
SUMMARY:Closed for Private Event
DESCRIPTION:The Branch Museum of Design is closed to the public for a private event; we hope you will join us another time. \nWhen planning your trip to The Branch\, check our online calendar for any other private rentals that may occur during your intended visit.
URL:https://branchmuseum.org/calendar/closed-for-private-event-29/
LOCATION:The Branch Museum of Design\, 2501 Monument Avenue\, Richmond\, VA\, 23220\, United States
CATEGORIES:Private Event
ATTACH;FMTTYPE=image/jpeg:https://branchmuseum.org/wp-content/uploads/2024/12/back-spring-e1739462146618.jpg
END:VEVENT
BEGIN:VEVENT
DTSTART;VALUE=DATE:20251107
DTEND;VALUE=DATE:20251108
DTSTAMP:20260421T085841
CREATED:20251105T130916Z
LAST-MODIFIED:20251105T130916Z
UID:27281-1762473600-1762559999@branchmuseum.org
SUMMARY:Closed for Private Event
DESCRIPTION:The Branch Museum of Design is closed to the public for a private event; we hope you will join us another time. \nWhen planning your trip to The Branch\, check our online calendar for any other private rentals that may occur during your intended visit.
URL:https://branchmuseum.org/calendar/closed-for-private-event-28/
LOCATION:The Branch Museum of Design\, 2501 Monument Avenue\, Richmond\, VA\, 23220\, United States
CATEGORIES:Private Event
ATTACH;FMTTYPE=image/jpeg:https://branchmuseum.org/wp-content/uploads/2024/12/back-spring-e1739462146618.jpg
END:VEVENT
BEGIN:VEVENT
DTSTART;TZID=America/Halifax:20251101T120000
DTEND;TZID=America/Halifax:20251101T170000
DTSTAMP:20260421T085841
CREATED:20251031T190614Z
LAST-MODIFIED:20251031T190614Z
UID:27252-1761998400-1762016400@branchmuseum.org
SUMMARY:Closing Early for Private Event
DESCRIPTION:The Branch Museum of Design will be closing at 12 pm for a private event. Please join us between 10am – 12pm to see our current exhibition. \nWhen planning your trip to The Branch\, check our online calendar for any other private rentals that may occur during your intended visit.
URL:https://branchmuseum.org/calendar/closing-early-for-private-event/
LOCATION:The Branch Museum of Design\, 2501 Monument Avenue\, Richmond\, VA\, 23220\, United States
CATEGORIES:Private Event
ATTACH;FMTTYPE=image/jpeg:https://branchmuseum.org/wp-content/uploads/2024/12/back-spring-e1739462146618.jpg
END:VEVENT
BEGIN:VEVENT
DTSTART;TZID=America/Halifax:20251031T120000
DTEND;TZID=America/Halifax:20251031T170000
DTSTAMP:20260421T085841
CREATED:20250930T155630Z
LAST-MODIFIED:20250930T155630Z
UID:27174-1761912000-1761930000@branchmuseum.org
SUMMARY:Closing Early for Private Event
DESCRIPTION:The Branch Museum of Design will be closing at 12 pm for a private event. Please join us between 10am – 12pm to see our current exhibtion(s). \nWhen planning your trip to The Branch\, check our online calendar for any other private rentals that may occur during your intended visit.
URL:https://branchmuseum.org/calendar/closing-early-for-private-event-7/
LOCATION:The Branch Museum of Design\, 2501 Monument Avenue\, Richmond\, VA\, 23220\, United States
CATEGORIES:Private Event
ATTACH;FMTTYPE=image/jpeg:https://branchmuseum.org/wp-content/uploads/2024/12/back-spring-e1739462146618.jpg
END:VEVENT
BEGIN:VEVENT
DTSTART;TZID=America/Halifax:20251025T120000
DTEND;TZID=America/Halifax:20251025T170000
DTSTAMP:20260421T085841
CREATED:20250930T155612Z
LAST-MODIFIED:20250930T155612Z
UID:27173-1761393600-1761411600@branchmuseum.org
SUMMARY:Closing Early for Private Event
DESCRIPTION:The Branch Museum of Design will be closing at 12 pm for a private event. Please join us between 10am – 12pm to see our current exhibtion(s). \nWhen planning your trip to The Branch\, check our online calendar for any other private rentals that may occur during your intended visit.
URL:https://branchmuseum.org/calendar/closing-early-for-private-event-6/
LOCATION:The Branch Museum of Design\, 2501 Monument Avenue\, Richmond\, VA\, 23220\, United States
CATEGORIES:Private Event
ATTACH;FMTTYPE=image/jpeg:https://branchmuseum.org/wp-content/uploads/2024/12/back-spring-e1739462146618.jpg
END:VEVENT
BEGIN:VEVENT
DTSTART;TZID=America/Halifax:20251024T120000
DTEND;TZID=America/Halifax:20251024T170000
DTSTAMP:20260421T085841
CREATED:20250930T155552Z
LAST-MODIFIED:20250930T155552Z
UID:27172-1761307200-1761325200@branchmuseum.org
SUMMARY:Closing Early for Private Event
DESCRIPTION:The Branch Museum of Design will be closing at 12 pm for a private event. Please join us between 10am – 12pm to see our current exhibtion(s). \nWhen planning your trip to The Branch\, check our online calendar for any other private rentals that may occur during your intended visit.
URL:https://branchmuseum.org/calendar/closing-early-for-private-event-5/
LOCATION:The Branch Museum of Design\, 2501 Monument Avenue\, Richmond\, VA\, 23220\, United States
CATEGORIES:Private Event
ATTACH;FMTTYPE=image/jpeg:https://branchmuseum.org/wp-content/uploads/2024/12/back-spring-e1739462146618.jpg
END:VEVENT
BEGIN:VEVENT
DTSTART;VALUE=DATE:20251018
DTEND;VALUE=DATE:20251019
DTSTAMP:20260421T085841
CREATED:20251015T162635Z
LAST-MODIFIED:20251015T162635Z
UID:27205-1760745600-1760831999@branchmuseum.org
SUMMARY:Closed for Private Event
DESCRIPTION:The Branch Museum of Design is closed to the public for a private event; we hope you will join us another time. \nWhen planning your trip to The Branch\, check our online calendar for any other private rentals that may occur during your intended visit.
URL:https://branchmuseum.org/calendar/closed-for-private-event-27/
LOCATION:The Branch Museum of Design\, 2501 Monument Avenue\, Richmond\, VA\, 23220\, United States
CATEGORIES:Private Event
ATTACH;FMTTYPE=image/jpeg:https://branchmuseum.org/wp-content/uploads/2024/12/back-spring-e1739462146618.jpg
END:VEVENT
BEGIN:VEVENT
DTSTART;VALUE=DATE:20251017
DTEND;VALUE=DATE:20251018
DTSTAMP:20260421T085841
CREATED:20250930T155703Z
LAST-MODIFIED:20250930T155734Z
UID:27183-1760659200-1760745599@branchmuseum.org
SUMMARY:Closed for Private Event
DESCRIPTION:The Branch Museum of Design is closed to the public for a private event; we hope you will join us another time. \nWhen planning your trip to The Branch\, check our online calendar for any other private rentals that may occur during your intended visit.
URL:https://branchmuseum.org/calendar/closed-for-private-event-25/
LOCATION:The Branch Museum of Design\, 2501 Monument Avenue\, Richmond\, VA\, 23220\, United States
CATEGORIES:Private Event
ATTACH;FMTTYPE=image/jpeg:https://branchmuseum.org/wp-content/uploads/2024/12/back-spring-e1739462146618.jpg
END:VEVENT
BEGIN:VEVENT
DTSTART;TZID=America/Halifax:20251011T120000
DTEND;TZID=America/Halifax:20251011T170000
DTSTAMP:20260421T085841
CREATED:20250930T155524Z
LAST-MODIFIED:20250930T155524Z
UID:27171-1760184000-1760202000@branchmuseum.org
SUMMARY:Closing Early for Private Event
DESCRIPTION:The Branch Museum of Design will be closing at 12 pm for a private event. Please join us between 10am – 12pm to see our current exhibtion(s). \nWhen planning your trip to The Branch\, check our online calendar for any other private rentals that may occur during your intended visit.
URL:https://branchmuseum.org/calendar/closing-early-for-private-event-4/
LOCATION:The Branch Museum of Design\, 2501 Monument Avenue\, Richmond\, VA\, 23220\, United States
CATEGORIES:Private Event
ATTACH;FMTTYPE=image/jpeg:https://branchmuseum.org/wp-content/uploads/2024/12/back-spring-e1739462146618.jpg
END:VEVENT
BEGIN:VEVENT
DTSTART;TZID=America/Halifax:20251010T130000
DTEND;TZID=America/Halifax:20251010T170000
DTSTAMP:20260421T085841
CREATED:20250930T154819Z
LAST-MODIFIED:20250930T155325Z
UID:27175-1760101200-1760115600@branchmuseum.org
SUMMARY:Closing Early for Private Event
DESCRIPTION:The Branch Museum of Design will be closing at 1 pm for a private event. Please join us between 10am – 1pm to see our current exhibtion(s). \nWhen planning your trip to The Branch\, check our online calendar for any other private rentals that may occur during your intended visit.
URL:https://branchmuseum.org/calendar/closing-early-for-private-event-2/
LOCATION:The Branch Museum of Design\, 2501 Monument Avenue\, Richmond\, VA\, 23220\, United States
CATEGORIES:Private Event
ATTACH;FMTTYPE=image/jpeg:https://branchmuseum.org/wp-content/uploads/2024/12/back-spring-e1739462146618.jpg
END:VEVENT
BEGIN:VEVENT
DTSTART;VALUE=DATE:20251008
DTEND;VALUE=DATE:20251009
DTSTAMP:20260421T085841
CREATED:20251003T150954Z
LAST-MODIFIED:20251003T150954Z
UID:27185-1759881600-1759967999@branchmuseum.org
SUMMARY:Closed for Private Event
DESCRIPTION:The Branch Museum of Design is closed to the public for a private event; we hope you will join us another time. \nWhen planning your trip to The Branch\, check our online calendar for any other private rentals that may occur during your intended visit.
URL:https://branchmuseum.org/calendar/closed-for-private-event-26/
LOCATION:The Branch Museum of Design\, 2501 Monument Avenue\, Richmond\, VA\, 23220\, United States
CATEGORIES:Private Event
ATTACH;FMTTYPE=image/jpeg:https://branchmuseum.org/wp-content/uploads/2024/12/back-spring-e1739462146618.jpg
END:VEVENT
BEGIN:VEVENT
DTSTART;TZID=America/Halifax:20251004T120000
DTEND;TZID=America/Halifax:20251004T170000
DTSTAMP:20260421T085841
CREATED:20250930T155502Z
LAST-MODIFIED:20250930T155502Z
UID:27170-1759579200-1759597200@branchmuseum.org
SUMMARY:Closing Early for Private Event
DESCRIPTION:The Branch Museum of Design will be closing at 12 pm for a private event. Please join us between 10am – 12pm to see our current exhibtion(s). \nWhen planning your trip to The Branch\, check our online calendar for any other private rentals that may occur during your intended visit.
URL:https://branchmuseum.org/calendar/closing-early-for-private-event-3/
LOCATION:The Branch Museum of Design\, 2501 Monument Avenue\, Richmond\, VA\, 23220\, United States
CATEGORIES:Private Event
ATTACH;FMTTYPE=image/jpeg:https://branchmuseum.org/wp-content/uploads/2024/12/back-spring-e1739462146618.jpg
END:VEVENT
BEGIN:VEVENT
DTSTART;TZID=America/Halifax:20250927T120000
DTEND;TZID=America/Halifax:20250927T120000
DTSTAMP:20260421T085841
CREATED:20250916T185107Z
LAST-MODIFIED:20250921T203346Z
UID:27133-1758974400-1758974400@branchmuseum.org
SUMMARY:Closing Early for Private Event
DESCRIPTION:The Branch Museum of Design will be closing at 12 pm for a private event. Please join us between 10am – 12pm to see our current exhibtion(s). \nWhen planning your trip to The Branch\, check our online calendar for any other private rentals that may occur during your intended visit.
URL:https://branchmuseum.org/calendar/closed-for-private-event-24/
LOCATION:The Branch Museum of Design\, 2501 Monument Avenue\, Richmond\, VA\, 23220\, United States
CATEGORIES:Private Event
ATTACH;FMTTYPE=image/jpeg:https://branchmuseum.org/wp-content/uploads/2024/12/back-spring-e1739462146618.jpg
END:VEVENT
BEGIN:VEVENT
DTSTART;VALUE=DATE:20250920
DTEND;VALUE=DATE:20250921
DTSTAMP:20260421T085841
CREATED:20250916T184850Z
LAST-MODIFIED:20250916T184850Z
UID:27130-1758326400-1758412799@branchmuseum.org
SUMMARY:Closed for Private Event
DESCRIPTION:The Branch Museum of Design is closed to the public for a private event; we hope you will join us another time. \nWhen planning your trip to The Branch\, check our online calendar for any other private rentals that may occur during your intended visit.
URL:https://branchmuseum.org/calendar/closed-for-private-event-19/
LOCATION:The Branch Museum of Design\, 2501 Monument Avenue\, Richmond\, VA\, 23220\, United States
CATEGORIES:Private Event
ATTACH;FMTTYPE=image/jpeg:https://branchmuseum.org/wp-content/uploads/2024/12/back-spring-e1739462146618.jpg
END:VEVENT
BEGIN:VEVENT
DTSTART;VALUE=DATE:20250814
DTEND;VALUE=DATE:20250816
DTSTAMP:20260421T085841
CREATED:20250813T175401Z
LAST-MODIFIED:20250813T202533Z
UID:26867-1755129600-1755302399@branchmuseum.org
SUMMARY:Closed for Private Event
DESCRIPTION:The Branch Museum of Design is closed to the public for a private event; we hope you will join us another time. \nWhen planning your trip to The Branch\, check our online calendar for any other private rentals that may occur during your intended visit.
URL:https://branchmuseum.org/calendar/closed-for-private-event-17/
LOCATION:The Branch Museum of Design\, 2501 Monument Avenue\, Richmond\, VA\, 23220\, United States
CATEGORIES:Private Event
ATTACH;FMTTYPE=image/jpeg:https://branchmuseum.org/wp-content/uploads/2024/12/back-spring-e1739462146618.jpg
END:VEVENT
BEGIN:VEVENT
DTSTART;TZID=America/Halifax:20250614T130000
DTEND;TZID=America/Halifax:20250614T170000
DTSTAMP:20260421T085841
CREATED:20250517T173349Z
LAST-MODIFIED:20250517T173349Z
UID:26158-1749906000-1749920400@branchmuseum.org
SUMMARY:Closed for Private Event
DESCRIPTION:The Branch Museum of Design is closed to the public for a private event; we hope you will join us another time. \nWhen planning your trip to The Branch\, check our online calendar for any other private rentals that may occur during your intended visit.
URL:https://branchmuseum.org/calendar/closed-for-private-event-23/
LOCATION:The Branch Museum of Design\, 2501 Monument Avenue\, Richmond\, VA\, 23220\, United States
CATEGORIES:Private Event
ATTACH;FMTTYPE=image/jpeg:https://branchmuseum.org/wp-content/uploads/2024/12/back-spring-e1739462146618.jpg
END:VEVENT
BEGIN:VEVENT
DTSTART;TZID=America/Halifax:20250613T150000
DTEND;TZID=America/Halifax:20250613T170000
DTSTAMP:20260421T085841
CREATED:20250517T173254Z
LAST-MODIFIED:20250517T173254Z
UID:26156-1749826800-1749834000@branchmuseum.org
SUMMARY:Closed for Private Event
DESCRIPTION:The Branch Museum of Design is closed to the public for a private event; we hope you will join us another time. \nWhen planning your trip to The Branch\, check our online calendar for any other private rentals that may occur during your intended visit.
URL:https://branchmuseum.org/calendar/closed-for-private-event-22/
LOCATION:The Branch Museum of Design\, 2501 Monument Avenue\, Richmond\, VA\, 23220\, United States
CATEGORIES:Private Event
ATTACH;FMTTYPE=image/jpeg:https://branchmuseum.org/wp-content/uploads/2024/12/back-spring-e1739462146618.jpg
END:VEVENT
BEGIN:VEVENT
DTSTART;TZID=America/Halifax:20250610T150000
DTEND;TZID=America/Halifax:20250610T170000
DTSTAMP:20260421T085841
CREATED:20250517T173135Z
LAST-MODIFIED:20250517T173135Z
UID:26154-1749567600-1749574800@branchmuseum.org
SUMMARY:Closed for Private Event
DESCRIPTION:The Branch Museum of Design is closed to the public for a private event; we hope you will join us another time. \nWhen planning your trip to The Branch\, check our online calendar for any other private rentals that may occur during your intended visit.
URL:https://branchmuseum.org/calendar/closed-for-private-event-21/
LOCATION:The Branch Museum of Design\, 2501 Monument Avenue\, Richmond\, VA\, 23220\, United States
CATEGORIES:Private Event
ATTACH;FMTTYPE=image/jpeg:https://branchmuseum.org/wp-content/uploads/2024/12/back-spring-e1739462146618.jpg
END:VEVENT
BEGIN:VEVENT
DTSTART;TZID=America/Halifax:20250607T130000
DTEND;TZID=America/Halifax:20250607T170000
DTSTAMP:20260421T085841
CREATED:20250517T173029Z
LAST-MODIFIED:20250604T135459Z
UID:26152-1749301200-1749315600@branchmuseum.org
SUMMARY:Closing at 1pm for Private Event
DESCRIPTION:The Branch Museum of Design is closing at 1pm to the public for a private event; we hope you will join us another time. \nWhen planning your trip to The Branch\, check our online calendar for any other private rentals that may occur during your intended visit.
URL:https://branchmuseum.org/calendar/closed-for-private-event-20/
LOCATION:The Branch Museum of Design\, 2501 Monument Avenue\, Richmond\, VA\, 23220\, United States
CATEGORIES:Private Event
ATTACH;FMTTYPE=image/jpeg:https://branchmuseum.org/wp-content/uploads/2024/12/back-spring-e1739462146618.jpg
END:VEVENT
BEGIN:VEVENT
DTSTART;TZID=America/Halifax:20250524T150000
DTEND;TZID=America/Halifax:20250524T170000
DTSTAMP:20260421T085841
CREATED:20250517T160436Z
LAST-MODIFIED:20250517T160436Z
UID:26148-1748098800-1748106000@branchmuseum.org
SUMMARY:Closed for Private Event
DESCRIPTION:The Branch Museum of Design is closed to the public for a private event; we hope you will join us another time. \nWhen planning your trip to The Branch\, check our online calendar for any other private rentals that may occur during your intended visit.
URL:https://branchmuseum.org/calendar/closed-for-private-event-18/
LOCATION:The Branch Museum of Design\, 2501 Monument Avenue\, Richmond\, VA\, 23220\, United States
CATEGORIES:Private Event
ATTACH;FMTTYPE=image/jpeg:https://branchmuseum.org/wp-content/uploads/2024/12/back-spring-e1739462146618.jpg
END:VEVENT
BEGIN:VEVENT
DTSTART;VALUE=DATE:20250523
DTEND;VALUE=DATE:20250525
DTSTAMP:20260421T085841
CREATED:20250506T174533Z
LAST-MODIFIED:20250506T174533Z
UID:25639-1747958400-1748131199@branchmuseum.org
SUMMARY:Closed for Private Event
DESCRIPTION:The Branch Museum of Design is closed to the public for a private event; we hope you will join us another time. \nWhen planning your trip to The Branch\, check our online calendar for any other private rentals that may occur during your intended visit.
URL:https://branchmuseum.org/calendar/closed-for-private-event-12/
LOCATION:The Branch Museum of Design\, 2501 Monument Avenue\, Richmond\, VA\, 23220\, United States
CATEGORIES:Private Event
ATTACH;FMTTYPE=image/jpeg:https://branchmuseum.org/wp-content/uploads/2024/12/back-spring-e1739462146618.jpg
END:VEVENT
BEGIN:VEVENT
DTSTART;TZID=America/New_York:20250517T130000
DTEND;TZID=America/New_York:20250517T170000
DTSTAMP:20260421T085841
CREATED:20250506T193054Z
LAST-MODIFIED:20250506T193054Z
UID:25649-1747486800-1747501200@branchmuseum.org
SUMMARY:Closed for Private Event
DESCRIPTION:The Branch Museum of Design is closed to the public for a private event; we hope you will join us another time. \nWhen planning your trip to The Branch\, check our online calendar for any other private rentals that may occur during your intended visit.
URL:https://branchmuseum.org/calendar/closed-for-private-event-16/
LOCATION:The Branch Museum of Design\, 2501 Monument Avenue\, Richmond\, VA\, 23220\, United States
CATEGORIES:Private Event
ATTACH;FMTTYPE=image/jpeg:https://branchmuseum.org/wp-content/uploads/2024/12/back-spring-e1739462146618.jpg
END:VEVENT
END:VCALENDAR