BEGIN:VCALENDAR
VERSION:2.0
PRODID:-//The Branch Museum of Design - ECPv6.15.20//NONSGML v1.0//EN
CALSCALE:GREGORIAN
METHOD:PUBLISH
X-ORIGINAL-URL:https://branchmuseum.org
X-WR-CALDESC:Events for The Branch Museum of Design
REFRESH-INTERVAL;VALUE=DURATION:PT1H
X-Robots-Tag:noindex
X-PUBLISHED-TTL:PT1H
BEGIN:VTIMEZONE
TZID:America/Halifax
BEGIN:DAYLIGHT
TZOFFSETFROM:-0400
TZOFFSETTO:-0300
TZNAME:ADT
DTSTART:20240310T060000
END:DAYLIGHT
BEGIN:STANDARD
TZOFFSETFROM:-0300
TZOFFSETTO:-0400
TZNAME:AST
DTSTART:20241103T050000
END:STANDARD
BEGIN:DAYLIGHT
TZOFFSETFROM:-0400
TZOFFSETTO:-0300
TZNAME:ADT
DTSTART:20250309T060000
END:DAYLIGHT
BEGIN:STANDARD
TZOFFSETFROM:-0300
TZOFFSETTO:-0400
TZNAME:AST
DTSTART:20251102T050000
END:STANDARD
BEGIN:DAYLIGHT
TZOFFSETFROM:-0400
TZOFFSETTO:-0300
TZNAME:ADT
DTSTART:20260308T060000
END:DAYLIGHT
BEGIN:STANDARD
TZOFFSETFROM:-0300
TZOFFSETTO:-0400
TZNAME:AST
DTSTART:20261101T050000
END:STANDARD
END:VTIMEZONE
BEGIN:VTIMEZONE
TZID:America/New_York
BEGIN:DAYLIGHT
TZOFFSETFROM:-0500
TZOFFSETTO:-0400
TZNAME:EDT
DTSTART:20190310T070000
END:DAYLIGHT
BEGIN:STANDARD
TZOFFSETFROM:-0400
TZOFFSETTO:-0500
TZNAME:EST
DTSTART:20191103T060000
END:STANDARD
BEGIN:DAYLIGHT
TZOFFSETFROM:-0500
TZOFFSETTO:-0400
TZNAME:EDT
DTSTART:20200308T070000
END:DAYLIGHT
BEGIN:STANDARD
TZOFFSETFROM:-0400
TZOFFSETTO:-0500
TZNAME:EST
DTSTART:20201101T060000
END:STANDARD
BEGIN:DAYLIGHT
TZOFFSETFROM:-0500
TZOFFSETTO:-0400
TZNAME:EDT
DTSTART:20210314T070000
END:DAYLIGHT
BEGIN:STANDARD
TZOFFSETFROM:-0400
TZOFFSETTO:-0500
TZNAME:EST
DTSTART:20211107T060000
END:STANDARD
END:VTIMEZONE
BEGIN:VEVENT
DTSTART;TZID=America/Halifax:20251030T173000
DTEND;TZID=America/Halifax:20251030T193000
DTSTAMP:20260420T085830
CREATED:20251013T000132Z
LAST-MODIFIED:20251024T004328Z
UID:27186-1761845400-1761852600@branchmuseum.org
SUMMARY:Palladio's Influence on America - and Virginia Too!  presented by Calder Loth
DESCRIPTION:Join Architectural Historian Calder Loth\, presenting:Â Palladio’s Influence on America– and Virginia Too!Â at The Branch Museum of Design \nThis free Member Cultivation event\, planned for CPSA members and friends who might be interested in joining the organization. \nThe lecture will also be streamed as a webinar to those who cannot attend. NO SEATS LEFT \nClick HERE to register for the webinar. The presentation will also be placed on- demand viewing on CPSAâ€™s YouTube Channel.Â  No ticket? Please refrain from attending the lecture in-person as all seats are taken by ticket holders. \nCalder Loth\, longtime CPSA vice-president and editor of Palladiana\, retired from the Virginia Department of Historic Resources and currently writes and speaks frequently on classical architecture. \n 
URL:https://branchmuseum.org/calendar/palladios-influence-on-america-and-virginia-too-presented-by-calder-loth/
LOCATION:The Branch Museum of Design\, 2501 Monument Avenue\, Richmond\, VA\, 23220\, United States
CATEGORIES:Learn,Panel,Webinar
END:VEVENT
BEGIN:VEVENT
DTSTART;TZID=America/Halifax:20251002T180000
DTEND;TZID=America/Halifax:20251002T200000
DTSTAMP:20260420T085830
CREATED:20250819T210014Z
LAST-MODIFIED:20250914T220243Z
UID:26959-1759428000-1759435200@branchmuseum.org
SUMMARY:Designer Discussion with Kenny Nguyen
DESCRIPTION:Ever wondered how silk can become sculpture?Â  \nIn Confluence\, artist Kenny Nguyen uses hand-cut silk as both material and metaphor for transformationâ€”layering\, cutting\, and reshaping it into sculptural forms that blur the boundaries between painting\, sculpture\, and textile. \nOn October 2\, 6â€“8 PM\, Nguyen takes us inside his practice during a special designer discussion at The Branch. The evening will be moderated by Renee Lamb\, professor in the VCUarts Fashion Department\, who brings over 20 years of experience working with textiles. \nBuy Tickets Here
URL:https://branchmuseum.org/calendar/designer-discussion-with-kenny-nguyen/
LOCATION:The Branch Museum of Design\, 2501 Monument Avenue\, Richmond\, VA\, 23220\, United States
CATEGORIES:Learn,Panel
ATTACH;FMTTYPE=image/png:https://branchmuseum.org/wp-content/uploads/2025/09/Confluence-Designer-Discussion-Square.png
END:VEVENT
BEGIN:VEVENT
DTSTART;TZID=America/Halifax:20250605T180000
DTEND;TZID=America/Halifax:20250605T193000
DTSTAMP:20260420T085830
CREATED:20250219T174223Z
LAST-MODIFIED:20250514T192030Z
UID:25014-1749146400-1749151800@branchmuseum.org
SUMMARY:Living Layers: Revisiting Gilletteâ€™s Legacy
DESCRIPTION:Purchase Tickets Here \nLandscape architect Rachel â€œRustyâ€ Lilly has designed significant renovations to several Gillette-designed gardens in Virginia and wrote her master’s thesis on the landscapes at Lochiel\, an Orange County estate near Gordonsville\, Virginia. In an illustrated conversation with Mimi Sadler\, Lilly will describe her experiences with Gillette landscapes\, focusing on her analysis of his work at Lochiel.
URL:https://branchmuseum.org/calendar/living-layers-revisiting-gillettes-legacy/
LOCATION:The Branch Museum of Design\, 2501 Monument Avenue\, Richmond\, VA\, 23220\, United States
CATEGORIES:Learn,Panel
END:VEVENT
BEGIN:VEVENT
DTSTART;TZID=America/Halifax:20250529T180000
DTEND;TZID=America/Halifax:20250529T193000
DTSTAMP:20260420T085830
CREATED:20250424T152919Z
LAST-MODIFIED:20250424T152958Z
UID:25578-1748541600-1748547000@branchmuseum.org
SUMMARY:Critical Regionalism in Landscape: Connecting Gillette to Present Practice
DESCRIPTION:Re-scheduled Date Ticketing Page \nJoin us on Thursday\, May 29th at 6pm for an insightful lecture with Warren Byrd. Through his presentation\, Byrd will connect the timeless work of Charles Gillette to current practices in landscape architecture. \n\n\nBy placing Gillette in historical context\, Byrd will demonstrate the link between past and present landscape architects\, illustrating the lasting impact of Gilletteâ€™s legacy. He will also discuss how this legacy informs todayâ€™s design approachesâ€”highlighting what we should continue to embrace and what areas require evolution. Additionally\, Byrd will showcase recent landscape architectural projects\, focusing on the contemporary directions in design\, particularly through the work of NBW. \nDonâ€™t miss this opportunity to engage with the past while envisioning the future of landscape architecture!
URL:https://branchmuseum.org/calendar/critical-regionalism-in-landscape-connecting-gillette-to-present-practice/
LOCATION:The Branch Museum of Design\, 2501 Monument Avenue\, Richmond\, VA\, 23220\, United States
CATEGORIES:Learn
ATTACH;FMTTYPE=image/png:https://branchmuseum.org/wp-content/uploads/2025/04/critical-regionalism.png
END:VEVENT
BEGIN:VEVENT
DTSTART;TZID=America/Halifax:20250424T180000
DTEND;TZID=America/Halifax:20250424T193000
DTSTAMP:20260420T085830
CREATED:20250219T173559Z
LAST-MODIFIED:20250424T152953Z
UID:25010-1745517600-1745523000@branchmuseum.org
SUMMARY:Critical Regionalism in Landscape: Connecting Gillette to Present Practice
DESCRIPTION:This event has been canceled due to unforeseen circumstances \nRe-scheduled Date Ticketing Page \n\nJoin us on Thursday\, April 24th at 6pm for an insightful lecture with Warren Byrd. Through his presentation\, Byrd will connect the timeless work of Charles Gillette to current practices in landscape architecture. \n\n\nBy placing Gillette in historical context\, Byrd will demonstrate the link between past and present landscape architects\, illustrating the lasting impact of Gilletteâ€™s legacy. He will also discuss how this legacy informs todayâ€™s design approachesâ€”highlighting what we should continue to embrace and what areas require evolution. Additionally\, Byrd will showcase recent landscape architectural projects\, focusing on the contemporary directions in design\, particularly through the work of NBW. \nDonâ€™t miss this opportunity to engage with the past while envisioning the future of landscape architecture!
URL:https://branchmuseum.org/calendar/critical-regionalism-from-gillette-to-now/
LOCATION:The Branch Museum of Design\, 2501 Monument Avenue\, Richmond\, VA\, 23220\, United States
CATEGORIES:Learn
ATTACH;FMTTYPE=image/png:https://branchmuseum.org/wp-content/uploads/2025/02/warren-lecture-square.png
END:VEVENT
BEGIN:VEVENT
DTSTART;TZID=America/Halifax:20250413T130000
DTEND;TZID=America/Halifax:20250413T150000
DTSTAMP:20260420T085830
CREATED:20250219T173338Z
LAST-MODIFIED:20250328T152136Z
UID:25008-1744549200-1744556400@branchmuseum.org
SUMMARY:Garden Magic 101: A Workshop with Molly Spell
DESCRIPTION:Get your ticket here \nJoin Molly Spell of Spell Garden Design to explore how modern homeowners can refresh historic Virginia garden styles while navigating time constraints and environmental challenges. Participants will gain practical tips on utilizing native\, non-invasive plants\, minimizing maintenance\, and crafting sustainable\, beautiful landscapes beyond aesthetics. Attendees will also create a sample garden plan combining classic Virginia garden elements with a contemporary planting palette.
URL:https://branchmuseum.org/calendar/garden-magic-101-a-workshop-with-molly-spell/
LOCATION:The Branch Museum of Design\, 2501 Monument Avenue\, Richmond\, VA\, 23220\, United States
CATEGORIES:Learn,Workshop
END:VEVENT
BEGIN:VEVENT
DTSTART;TZID=America/Halifax:20250401T180000
DTEND;TZID=America/Halifax:20250401T193000
DTSTAMP:20260420T085830
CREATED:20250219T173114Z
LAST-MODIFIED:20250318T161533Z
UID:25006-1743530400-1743535800@branchmuseum.org
SUMMARY:Scaleless Interventions: An Evening with Moncada Rangel
DESCRIPTION:Get Tickets Here \nJoin The Branch Museum of Design for a special evening with global architectural design firm Moncada Rangel. Mafalda Rangel (Portuguese) and Francesco Moncada (Italian) envision architecture as a boundless field where every intervention is scale-less and deeply meaningful. Together\, they will share how they weave their firmâ€™s â€œscalelessâ€ philosophy into existing structures\, integrating a deep understanding of local intangible heritage to create layered and meaningful spaces.
URL:https://branchmuseum.org/calendar/scale-less-interventions-an-evening-with-moncada-rangel/
LOCATION:The Branch Museum of Design\, 2501 Monument Avenue\, Richmond\, VA\, 23220\, United States
CATEGORIES:Learn
ATTACH;FMTTYPE=image/png:https://branchmuseum.org/wp-content/uploads/2025/02/scaleless.png
END:VEVENT
BEGIN:VEVENT
DTSTART;TZID=America/Halifax:20250329T100000
DTEND;TZID=America/Halifax:20250329T120000
DTSTAMP:20260420T085830
CREATED:20250311T153341Z
LAST-MODIFIED:20250320T174209Z
UID:25267-1743242400-1743249600@branchmuseum.org
SUMMARY:Coffee + Convo with Raven Larcom
DESCRIPTION:Get Tickets Here \nJoin us for a Coffee + Convo with Raven Larcom of the Xerces Society for Invertebrate Conservation on Saturday\, March 29th. Raven will discuss contemporary issues facing pollinators and share simple ways how we can conserve these helpful creatures. \nThank you to our sponsor Blanchard’s Coffee Roasting Co.
URL:https://branchmuseum.org/calendar/coffee-convo-with-raven-larcom/
LOCATION:The Branch Museum of Design\, 2501 Monument Avenue\, Richmond\, VA\, 23220\, United States
CATEGORIES:Learn,Workshop
ATTACH;FMTTYPE=image/png:https://branchmuseum.org/wp-content/uploads/2025/03/All-Programs-2025-only-confirmed-events-5.png
END:VEVENT
BEGIN:VEVENT
DTSTART;TZID=America/Halifax:20250313T180000
DTEND;TZID=America/Halifax:20250313T193000
DTSTAMP:20260420T085830
CREATED:20250219T172222Z
LAST-MODIFIED:20250311T145339Z
UID:25001-1741888800-1741894200@branchmuseum.org
SUMMARY:SOLD OUT EVENT The Eco-Public: Re-thinking Community Spaces
DESCRIPTION:SOLD OUT EVENT \nHow do you create a natural space that is both welcoming and accessible? Join us for an engaging panel discussion featuring leading local landscape architects who will explore the art of designing public spaces driven by community engagement. Our panelists will discuss everything from site selection to design influences\, revealing what makes a landscape resonate with its visitors. Whether a vibrant urban park or a communal garden\, this conversation will highlight how thoughtful design can transform spaces into beautiful and valuable environments. \nPanel Sponsored by:
URL:https://branchmuseum.org/calendar/the-eco-public-re-thinking-community-spaces/
LOCATION:The Branch Museum of Design\, 2501 Monument Avenue\, Richmond\, VA\, 23220\, United States
CATEGORIES:Learn,Panel
ATTACH;FMTTYPE=image/png:https://branchmuseum.org/wp-content/uploads/2025/02/sold-out.png
END:VEVENT
BEGIN:VEVENT
DTSTART;TZID=America/Halifax:20250227T110000
DTEND;TZID=America/Halifax:20250227T120000
DTSTAMP:20260420T085830
CREATED:20250213T185751Z
LAST-MODIFIED:20250213T185751Z
UID:24990-1740654000-1740657600@branchmuseum.org
SUMMARY:Public Guided Tour
DESCRIPTION:Did you know that The Branch Museum of Design is the only design museum in Virginia and is a Nationally Recognized Historic Landmark? \nThis tour is an exclusive opportunity to explore the monumental Branch House with an expert guide. Uncover the incredible work of architect John Russell Pope and travel back in time to discover the interior secrets behind one of the oldest preserved Tudor Revival masterpieces in the Commonwealth of Virginia. \nTours will be led by the Visitor Experience and Programs Director\, Kristen Christian.
URL:https://branchmuseum.org/calendar/public-guided-tour/
LOCATION:VA
CATEGORIES:Learn
ATTACH;FMTTYPE=image/png:https://branchmuseum.org/wp-content/uploads/2025/01/tour-banner.png
END:VEVENT
BEGIN:VEVENT
DTSTART;TZID=America/New_York:20201111T183000
DTEND;TZID=America/New_York:20201111T193000
DTSTAMP:20260420T085830
CREATED:20130319T203409Z
LAST-MODIFIED:20201105T203434Z
UID:379-1605119400-1605123000@branchmuseum.org
SUMMARY:The Branch House Plaster
DESCRIPTION:The Branch House decorative plaster is some of the most beautiful plasterwork in Virginia.Â  Unfortunately\, the century since the House was built and water intrusion have caused significant damage.Â  You will see up-close views of the beautiful plaster figures and decorations\, including the toll that time has taken on the plaster\, and you will discover the history of plasterwork in the early 20thÂ century\, particularly in Richmond\, as well as learn from a dedicated craftsman how this work is being saved at the Branch.Â  The challenges of restoration are best shown in the work to save our decorative plaster.
URL:https://branchmuseum.org/calendar/plaster/
LOCATION:VA
CATEGORIES:Learn
ATTACH;FMTTYPE=image/jpeg:https://branchmuseum.org/wp-content/uploads/2013/03/Plaster-1x1-1-scaled.jpg
END:VEVENT
END:VCALENDAR