BEGIN:VCALENDAR
VERSION:2.0
PRODID:-//The Branch Museum of Design - ECPv6.15.20//NONSGML v1.0//EN
CALSCALE:GREGORIAN
METHOD:PUBLISH
X-ORIGINAL-URL:https://branchmuseum.org
X-WR-CALDESC:Events for The Branch Museum of Design
REFRESH-INTERVAL;VALUE=DURATION:PT1H
X-Robots-Tag:noindex
X-PUBLISHED-TTL:PT1H
BEGIN:VTIMEZONE
TZID:America/Halifax
BEGIN:DAYLIGHT
TZOFFSETFROM:-0400
TZOFFSETTO:-0300
TZNAME:ADT
DTSTART:20240310T060000
END:DAYLIGHT
BEGIN:STANDARD
TZOFFSETFROM:-0300
TZOFFSETTO:-0400
TZNAME:AST
DTSTART:20241103T050000
END:STANDARD
BEGIN:DAYLIGHT
TZOFFSETFROM:-0400
TZOFFSETTO:-0300
TZNAME:ADT
DTSTART:20250309T060000
END:DAYLIGHT
BEGIN:STANDARD
TZOFFSETFROM:-0300
TZOFFSETTO:-0400
TZNAME:AST
DTSTART:20251102T050000
END:STANDARD
BEGIN:DAYLIGHT
TZOFFSETFROM:-0400
TZOFFSETTO:-0300
TZNAME:ADT
DTSTART:20260308T060000
END:DAYLIGHT
BEGIN:STANDARD
TZOFFSETFROM:-0300
TZOFFSETTO:-0400
TZNAME:AST
DTSTART:20261101T050000
END:STANDARD
END:VTIMEZONE
BEGIN:VEVENT
DTSTART;TZID=America/Halifax:20250401T180000
DTEND;TZID=America/Halifax:20250401T193000
DTSTAMP:20260423T140112
CREATED:20250219T173114Z
LAST-MODIFIED:20250318T161533Z
UID:25006-1743530400-1743535800@branchmuseum.org
SUMMARY:Scaleless Interventions: An Evening with Moncada Rangel
DESCRIPTION:Get Tickets Here \nJoin The Branch Museum of Design for a special evening with global architectural design firm Moncada Rangel. Mafalda Rangel (Portuguese) and Francesco Moncada (Italian) envision architecture as a boundless field where every intervention is scale-less and deeply meaningful. Together\, they will share how they weave their firmâ€™s â€œscalelessâ€ philosophy into existing structures\, integrating a deep understanding of local intangible heritage to create layered and meaningful spaces.
URL:https://branchmuseum.org/calendar/scale-less-interventions-an-evening-with-moncada-rangel/
LOCATION:The Branch Museum of Design\, 2501 Monument Avenue\, Richmond\, VA\, 23220\, United States
CATEGORIES:Learn
ATTACH;FMTTYPE=image/png:https://branchmuseum.org/wp-content/uploads/2025/02/scaleless.png
END:VEVENT
BEGIN:VEVENT
DTSTART;TZID=America/Halifax:20250413T130000
DTEND;TZID=America/Halifax:20250413T150000
DTSTAMP:20260423T140112
CREATED:20250219T173338Z
LAST-MODIFIED:20250328T152136Z
UID:25008-1744549200-1744556400@branchmuseum.org
SUMMARY:Garden Magic 101: A Workshop with Molly Spell
DESCRIPTION:Get your ticket here \nJoin Molly Spell of Spell Garden Design to explore how modern homeowners can refresh historic Virginia garden styles while navigating time constraints and environmental challenges. Participants will gain practical tips on utilizing native\, non-invasive plants\, minimizing maintenance\, and crafting sustainable\, beautiful landscapes beyond aesthetics. Attendees will also create a sample garden plan combining classic Virginia garden elements with a contemporary planting palette.
URL:https://branchmuseum.org/calendar/garden-magic-101-a-workshop-with-molly-spell/
LOCATION:The Branch Museum of Design\, 2501 Monument Avenue\, Richmond\, VA\, 23220\, United States
CATEGORIES:Learn,Workshop
END:VEVENT
BEGIN:VEVENT
DTSTART;TZID=America/Halifax:20250424T180000
DTEND;TZID=America/Halifax:20250424T193000
DTSTAMP:20260423T140112
CREATED:20250219T173559Z
LAST-MODIFIED:20250424T152953Z
UID:25010-1745517600-1745523000@branchmuseum.org
SUMMARY:Critical Regionalism in Landscape: Connecting Gillette to Present Practice
DESCRIPTION:This event has been canceled due to unforeseen circumstances \nRe-scheduled Date Ticketing Page \n\nJoin us on Thursday\, April 24th at 6pm for an insightful lecture with Warren Byrd. Through his presentation\, Byrd will connect the timeless work of Charles Gillette to current practices in landscape architecture. \n\n\nBy placing Gillette in historical context\, Byrd will demonstrate the link between past and present landscape architects\, illustrating the lasting impact of Gilletteâ€™s legacy. He will also discuss how this legacy informs todayâ€™s design approachesâ€”highlighting what we should continue to embrace and what areas require evolution. Additionally\, Byrd will showcase recent landscape architectural projects\, focusing on the contemporary directions in design\, particularly through the work of NBW. \nDonâ€™t miss this opportunity to engage with the past while envisioning the future of landscape architecture!
URL:https://branchmuseum.org/calendar/critical-regionalism-from-gillette-to-now/
LOCATION:The Branch Museum of Design\, 2501 Monument Avenue\, Richmond\, VA\, 23220\, United States
CATEGORIES:Learn
ATTACH;FMTTYPE=image/png:https://branchmuseum.org/wp-content/uploads/2025/02/warren-lecture-square.png
END:VEVENT
END:VCALENDAR