BEGIN:VCALENDAR
VERSION:2.0
PRODID:-//The Branch Museum of Design - ECPv6.15.20//NONSGML v1.0//EN
CALSCALE:GREGORIAN
METHOD:PUBLISH
X-WR-CALNAME:The Branch Museum of Design
X-ORIGINAL-URL:https://branchmuseum.org
X-WR-CALDESC:Events for The Branch Museum of Design
REFRESH-INTERVAL;VALUE=DURATION:PT1H
X-Robots-Tag:noindex
X-PUBLISHED-TTL:PT1H
BEGIN:VTIMEZONE
TZID:America/Halifax
BEGIN:DAYLIGHT
TZOFFSETFROM:-0400
TZOFFSETTO:-0300
TZNAME:ADT
DTSTART:20250309T060000
END:DAYLIGHT
BEGIN:STANDARD
TZOFFSETFROM:-0300
TZOFFSETTO:-0400
TZNAME:AST
DTSTART:20251102T050000
END:STANDARD
BEGIN:DAYLIGHT
TZOFFSETFROM:-0400
TZOFFSETTO:-0300
TZNAME:ADT
DTSTART:20260308T060000
END:DAYLIGHT
BEGIN:STANDARD
TZOFFSETFROM:-0300
TZOFFSETTO:-0400
TZNAME:AST
DTSTART:20261101T050000
END:STANDARD
BEGIN:DAYLIGHT
TZOFFSETFROM:-0400
TZOFFSETTO:-0300
TZNAME:ADT
DTSTART:20270314T060000
END:DAYLIGHT
BEGIN:STANDARD
TZOFFSETFROM:-0300
TZOFFSETTO:-0400
TZNAME:AST
DTSTART:20271107T050000
END:STANDARD
END:VTIMEZONE
BEGIN:VEVENT
DTSTART;VALUE=DATE:20260402
DTEND;VALUE=DATE:20260425
DTSTAMP:20260421T014012
CREATED:20260218T183848Z
LAST-MODIFIED:20260408T141416Z
UID:28008-1775088000-1777075199@branchmuseum.org
SUMMARY:A Field of Curiosity
DESCRIPTION:Every spring\, The Branch opens its doors to designers and collaborators who share a single instinct: to make. \nThis exhibition serves as a first look. The works on view will take center stage at our annual Mad Hatter Art & Design Auction on April 24\, and right now they’re yours to take in before the big night. \nPlayful sits next to serious. Canvas sits next to steel.  What connects them isn’t a theme – it’s the people who made them. \nWhen you take something home\, you’re not just buying a piece. You’re becoming a part of what comes next – the exhibitions\, the programs\, and the ideas shaping contemporary design today.
URL:https://branchmuseum.org/calendar/28008/
LOCATION:VA
CATEGORIES:Exhibition
ATTACH;FMTTYPE=image/png:https://branchmuseum.org/wp-content/uploads/2026/04/A-Field-of-CuriosityPromo-Square.png
END:VEVENT
BEGIN:VEVENT
DTSTART;TZID=America/Halifax:20260421T130000
DTEND;TZID=America/Halifax:20260421T150000
DTSTAMP:20260421T014012
CREATED:20260331T184043Z
LAST-MODIFIED:20260331T184043Z
UID:28126-1776776400-1776783600@branchmuseum.org
SUMMARY:Branch House Guided Tours
DESCRIPTION:Sign up for a Guided Tour of The Historic Branch House during Virginia’s Historic Garden Week. Tours include a brief history of The Branch family and their iconic Tudor Revival home on Monument Ave.\, exclusive access to special spaces such as the roof +  entry to our current exhibition Mad Hatter: A Field of  Curiosity. Tours cost $15 per person\, typically last about 60 -75 mins\, and are limited to 20 people max. \nTour Times Include:  \nTuesday\, April 21st 1:00 PM \nTuesday\, April 21st 3:00 PM \nThursday\, April 23rd 1:00 PM \nThursday\, April 23rd 3:00 PM \nBuy Tickets Here
URL:https://branchmuseum.org/calendar/branch-house-guided-tours/
LOCATION:The Branch Museum of Design\, 2501 Monument Avenue\, Richmond\, VA\, 23220\, United States
ATTACH;FMTTYPE=image/png:https://branchmuseum.org/wp-content/uploads/2026/03/BranchHouse_GuidedTours.png
END:VEVENT
BEGIN:VEVENT
DTSTART;TZID=America/Halifax:20260421T150000
DTEND;TZID=America/Halifax:20260421T170000
DTSTAMP:20260421T014012
CREATED:20260331T184117Z
LAST-MODIFIED:20260331T184117Z
UID:28129-1776783600-1776790800@branchmuseum.org
SUMMARY:Branch House Guided Tours
DESCRIPTION:Sign up for a Guided Tour of The Historic Branch House during Virginia’s Historic Garden Week. Tours include a brief history of The Branch family and their iconic Tudor Revival home on Monument Ave.\, exclusive access to special spaces such as the roof +  entry to our current exhibition Mad Hatter: A Field of  Curiosity. Tours cost $15 per person\, typically last about 60 -75 mins\, and are limited to 20 people max. \nTour Times Include:  \nTuesday\, April 21st 1:00 PM \nTuesday\, April 21st 3:00 PM \nThursday\, April 23rd 1:00 PM \nThursday\, April 23rd 3:00 PM \nBuy Tickets Here
URL:https://branchmuseum.org/calendar/branch-house-guided-tours-2/
LOCATION:The Branch Museum of Design\, 2501 Monument Avenue\, Richmond\, VA\, 23220\, United States
ATTACH;FMTTYPE=image/png:https://branchmuseum.org/wp-content/uploads/2026/03/BranchHouse_GuidedTours.png
END:VEVENT
END:VCALENDAR